BEGIN:VCALENDAR
VERSION:2.0
PRODID:-//BPW Edmonton - ECPv6.15.20//NONSGML v1.0//EN
CALSCALE:GREGORIAN
METHOD:PUBLISH
X-WR-CALNAME:BPW Edmonton
X-ORIGINAL-URL:https://bpwedmonton.ca
X-WR-CALDESC:Events for BPW Edmonton
REFRESH-INTERVAL;VALUE=DURATION:PT1H
X-Robots-Tag:noindex
X-PUBLISHED-TTL:PT1H
BEGIN:VTIMEZONE
TZID:America/Edmonton
BEGIN:DAYLIGHT
TZOFFSETFROM:-0700
TZOFFSETTO:-0600
TZNAME:MDT
DTSTART:20220313T090000
END:DAYLIGHT
BEGIN:STANDARD
TZOFFSETFROM:-0600
TZOFFSETTO:-0700
TZNAME:MST
DTSTART:20221106T080000
END:STANDARD
BEGIN:DAYLIGHT
TZOFFSETFROM:-0700
TZOFFSETTO:-0600
TZNAME:MDT
DTSTART:20230312T090000
END:DAYLIGHT
BEGIN:STANDARD
TZOFFSETFROM:-0600
TZOFFSETTO:-0700
TZNAME:MST
DTSTART:20231105T080000
END:STANDARD
BEGIN:DAYLIGHT
TZOFFSETFROM:-0700
TZOFFSETTO:-0600
TZNAME:MDT
DTSTART:20240310T090000
END:DAYLIGHT
BEGIN:STANDARD
TZOFFSETFROM:-0600
TZOFFSETTO:-0700
TZNAME:MST
DTSTART:20241103T080000
END:STANDARD
END:VTIMEZONE
BEGIN:VEVENT
DTSTART;TZID=America/Edmonton:20230419T193000
DTEND;TZID=America/Edmonton:20230419T193000
DTSTAMP:20260421T143148
CREATED:20230401T191250Z
LAST-MODIFIED:20230401T191250Z
UID:1009-1681932600-1681932600@bpwedmonton.ca
SUMMARY:Reproductive Rights and Justice | BPW Canada
DESCRIPTION:Presented by BPW Canada on Reproductive Rights and Justice. \nRegistration Link: Meeting Registration – Zoom
URL:https://bpwedmonton.ca/event/reproductive-rights-and-justice-bpw-canada/
END:VEVENT
END:VCALENDAR