BEGIN:VCALENDAR
VERSION:2.0
PRODID:-//BPW Edmonton - ECPv6.15.20//NONSGML v1.0//EN
CALSCALE:GREGORIAN
METHOD:PUBLISH
X-ORIGINAL-URL:https://bpwedmonton.ca
X-WR-CALDESC:Events for BPW Edmonton
REFRESH-INTERVAL;VALUE=DURATION:PT1H
X-Robots-Tag:noindex
X-PUBLISHED-TTL:PT1H
BEGIN:VTIMEZONE
TZID:America/Edmonton
BEGIN:DAYLIGHT
TZOFFSETFROM:-0700
TZOFFSETTO:-0600
TZNAME:MDT
DTSTART:20220313T090000
END:DAYLIGHT
BEGIN:STANDARD
TZOFFSETFROM:-0600
TZOFFSETTO:-0700
TZNAME:MST
DTSTART:20221106T080000
END:STANDARD
BEGIN:DAYLIGHT
TZOFFSETFROM:-0700
TZOFFSETTO:-0600
TZNAME:MDT
DTSTART:20230312T090000
END:DAYLIGHT
BEGIN:STANDARD
TZOFFSETFROM:-0600
TZOFFSETTO:-0700
TZNAME:MST
DTSTART:20231105T080000
END:STANDARD
BEGIN:DAYLIGHT
TZOFFSETFROM:-0700
TZOFFSETTO:-0600
TZNAME:MDT
DTSTART:20240310T090000
END:DAYLIGHT
BEGIN:STANDARD
TZOFFSETFROM:-0600
TZOFFSETTO:-0700
TZNAME:MST
DTSTART:20241103T080000
END:STANDARD
END:VTIMEZONE
BEGIN:VEVENT
DTSTART;TZID=America/Edmonton:20231108T170000
DTEND;TZID=America/Edmonton:20231108T200000
DTSTAMP:20260423T044319
CREATED:20231020T183858Z
LAST-MODIFIED:20231031T013959Z
UID:1020-1699462800-1699473600@bpwedmonton.ca
SUMMARY:Emerging impacts of technology on women
DESCRIPTION:In partnership with Amii\, BPW is excited to be hosting this event to hear from Amii Fellow and Canada CIFAR AI Chair Nidhi Hegde\, along with Amii’s VP of Product Stephanie Enders. \nJoin us a we talk about the impact of emergent technology on women\, and also to understand how to best equip ourselves for its adoption\, how to leverage it to our benefit in the personal and professional areas (and all the different hats women wear). \nAppetizers and Refreshments will be provided. \nTickets: \nMembers – Free \nNon Members $25.00 \n\n\n\nAgenda:\n5pm – Registration\n5:30pm – Panel Discussion\n6:15pm – Q&A\n6:45pm – Networking\n\n\nOur Speakers:\nFellow and Canada CIFAR AI Chair – Nidhi Hegde\n\n\nVP of Product – Stephanie Enders
URL:https://bpwedmonton.ca/event/emerging-impacts-of-technology-on-women/
LOCATION:Amii\, #1101\, 10065 Jasper Avenue\, Edmonton\, AB T5J 3B1\, #1101\, 10065 Jasper Avenue\, Edmonton\, AB\, T5J 3B1\, Canada
END:VEVENT
END:VCALENDAR